BEGIN:VCALENDAR
VERSION:2.0
PRODID:-//Tupper Lake Public Library - ECPv6.15.20//NONSGML v1.0//EN
CALSCALE:GREGORIAN
METHOD:PUBLISH
X-WR-CALNAME:Tupper Lake Public Library
X-ORIGINAL-URL:https://tupperlakepubliclibrary.org
X-WR-CALDESC:Events for Tupper Lake Public Library
REFRESH-INTERVAL;VALUE=DURATION:PT1H
X-Robots-Tag:noindex
X-PUBLISHED-TTL:PT1H
BEGIN:VTIMEZONE
TZID:America/New_York
BEGIN:DAYLIGHT
TZOFFSETFROM:-0500
TZOFFSETTO:-0400
TZNAME:EDT
DTSTART:20240310T070000
END:DAYLIGHT
BEGIN:STANDARD
TZOFFSETFROM:-0400
TZOFFSETTO:-0500
TZNAME:EST
DTSTART:20241103T060000
END:STANDARD
BEGIN:DAYLIGHT
TZOFFSETFROM:-0500
TZOFFSETTO:-0400
TZNAME:EDT
DTSTART:20250309T070000
END:DAYLIGHT
BEGIN:STANDARD
TZOFFSETFROM:-0400
TZOFFSETTO:-0500
TZNAME:EST
DTSTART:20251102T060000
END:STANDARD
BEGIN:DAYLIGHT
TZOFFSETFROM:-0500
TZOFFSETTO:-0400
TZNAME:EDT
DTSTART:20260308T070000
END:DAYLIGHT
BEGIN:STANDARD
TZOFFSETFROM:-0400
TZOFFSETTO:-0500
TZNAME:EST
DTSTART:20261101T060000
END:STANDARD
END:VTIMEZONE
BEGIN:VEVENT
DTSTART;TZID=America/New_York:20251110T100000
DTEND;TZID=America/New_York:20251110T110000
DTSTAMP:20260423T062443
CREATED:20251028T203741Z
LAST-MODIFIED:20251028T203741Z
UID:8410-1762768800-1762772400@tupperlakepubliclibrary.org
SUMMARY:Tupper Tots
DESCRIPTION:Bring your little one and connect with other caregivers for Early Literacy fun with books\, songs\, and body movement. \nFor ages 0 – preschool and their adults. This is a partnership between TLPL and Family Matters Resource Center.
URL:https://tupperlakepubliclibrary.org/event/tupper-tots-5/
LOCATION:Tupper Lake Public Library\, 41 LAKE ST\, TUPPER LAKE\, NY\, 12986-1610\, United States
ATTACH;FMTTYPE=image/png:https://tupperlakepubliclibrary.org/wp-content/uploads/2025/10/Tupper-Tots-2025.png
ORGANIZER;CN="Tupper Lake Public Library (AKA Goff-Nelson Memorial Library)":MAILTO:goffnelson@gmail.com
END:VEVENT
BEGIN:VEVENT
DTSTART;TZID=America/New_York:20251108T090000
DTEND;TZID=America/New_York:20251108T120000
DTSTAMP:20260423T062443
CREATED:20251029T143608Z
LAST-MODIFIED:20251029T143615Z
UID:8479-1762592400-1762603200@tupperlakepubliclibrary.org
SUMMARY:Winter Coat Drive: Item Pickup
DESCRIPTION:Thank you to all who donated to our annual Winter Coat Drive! We appreciate the support! \nAll winter items will be ready to be picked up at the Holy Ghost Parish (41 Marion Street\, Tupper Lake\, NY 12986). Come and collect some amazing winter gear just in time for the winter season!
URL:https://tupperlakepubliclibrary.org/event/winter-coat-drive-item-pickup-4/
LOCATION:Holy Ghost Parish\, 41 Marion Street\, Tupper Lake\, NY\, 12986\, United States
ATTACH;FMTTYPE=image/png:https://tupperlakepubliclibrary.org/wp-content/uploads/2025/10/2025-Winter-Coat-Drive-.png
ORGANIZER;CN="Tupper Lake Public Library (AKA Goff-Nelson Memorial Library)":MAILTO:goffnelson@gmail.com
END:VEVENT
BEGIN:VEVENT
DTSTART;TZID=America/New_York:20251107T103000
DTEND;TZID=America/New_York:20251107T113000
DTSTAMP:20260423T062443
CREATED:20250910T141908Z
LAST-MODIFIED:20250910T141927Z
UID:8023-1762511400-1762515000@tupperlakepubliclibrary.org
SUMMARY:AAC Book Club: The Last Green Valley by Mark Sullivan
DESCRIPTION:This book club is for participants ages 60 and up! We meet on the first Friday of the month at the Adirondack Adult Center (179 Demars Blvd). We will discuss The Last Green Valley by Mark Sullivan.
URL:https://tupperlakepubliclibrary.org/event/aac-book-club-the-last-green-valley-by-mark-sullivan/
LOCATION:Adirondack Adult Center\, 179 Demars Blvd\, Tupper Lake\, NY\, 12986
ATTACH;FMTTYPE=image/png:https://tupperlakepubliclibrary.org/wp-content/uploads/2025/09/The-Last-Green-Valley-by-Mark-Sullivan.png
END:VEVENT
BEGIN:VEVENT
DTSTART;TZID=America/New_York:20251107T100000
DTEND;TZID=America/New_York:20251107T140000
DTSTAMP:20260423T062443
CREATED:20251027T221320Z
LAST-MODIFIED:20251027T221320Z
UID:8385-1762509600-1762524000@tupperlakepubliclibrary.org
SUMMARY:Fingerprinting
DESCRIPTION:Fingerprinting is available downstairs in the Community Room\, (ENTRANCE IN BACK) every Friday by APPOINTMENT ONLY.\n\nTo make an appointment\, go to www.IdentoGO.com or call 884-321-2124.
URL:https://tupperlakepubliclibrary.org/event/fingerprinting-30/
LOCATION:Tupper Lake Public Library\, 41 LAKE ST\, TUPPER LAKE\, NY\, 12986-1610\, United States
ATTACH;FMTTYPE=image/jpeg:https://tupperlakepubliclibrary.org/wp-content/uploads/2024/09/fingerprinting.jpg
END:VEVENT
BEGIN:VEVENT
DTSTART;TZID=America/New_York:20251107T090000
DTEND;TZID=America/New_York:20251107T150000
DTSTAMP:20260423T062443
CREATED:20251029T143452Z
LAST-MODIFIED:20251029T143732Z
UID:8477-1762506000-1762527600@tupperlakepubliclibrary.org
SUMMARY:Winter Coat Drive: Item Pickup
DESCRIPTION:Thank you to all who donated to our annual Winter Coat Drive! We appreciate the support! \nAll winter items will be ready to be picked up at the Holy Ghost Parish (41 Marion Street\, Tupper Lake\, NY 12986). Come and collect some amazing winter gear just in time for the winter season!
URL:https://tupperlakepubliclibrary.org/event/winter-coat-drive-item-pickup-3/
LOCATION:Holy Ghost Parish\, 41 Marion Street\, Tupper Lake\, NY\, 12986\, United States
ATTACH;FMTTYPE=image/png:https://tupperlakepubliclibrary.org/wp-content/uploads/2025/10/2025-Winter-Coat-Drive-.png
ORGANIZER;CN="Tupper Lake Public Library (AKA Goff-Nelson Memorial Library)":MAILTO:goffnelson@gmail.com
END:VEVENT
BEGIN:VEVENT
DTSTART;TZID=America/New_York:20251106T130000
DTEND;TZID=America/New_York:20251106T150000
DTSTAMP:20260423T062443
CREATED:20251029T150548Z
LAST-MODIFIED:20251029T150548Z
UID:8496-1762434000-1762441200@tupperlakepubliclibrary.org
SUMMARY:Young @ Heart
DESCRIPTION:Join us twice a month for a fun\, themed craft session! All materials are provided\, and there’s no cost to participate. \nThis program is designed for seniors\, but everyone is welcome to attend.
URL:https://tupperlakepubliclibrary.org/event/young-heart-2/
LOCATION:Tupper Lake Public Library\, 41 LAKE ST\, TUPPER LAKE\, NY\, 12986-1610\, United States
ATTACH;FMTTYPE=image/png:https://tupperlakepubliclibrary.org/wp-content/uploads/2025/10/Young-@-Heart-Banner-Events.png
ORGANIZER;CN="Tupper Lake Public Library (AKA Goff-Nelson Memorial Library)":MAILTO:goffnelson@gmail.com
END:VEVENT
BEGIN:VEVENT
DTSTART;TZID=America/New_York:20251106T103000
DTEND;TZID=America/New_York:20251106T123000
DTSTAMP:20260423T062443
CREATED:20251029T154601Z
LAST-MODIFIED:20251029T154601Z
UID:8502-1762425000-1762432200@tupperlakepubliclibrary.org
SUMMARY:Yarn Social
DESCRIPTION:Let’s Stich and chat together! Join a gathering of people knitting and crocheting together! Please bring your own supplies and projects.
URL:https://tupperlakepubliclibrary.org/event/yarn-social-48/
LOCATION:Tupper Lake Public Library\, 41 LAKE ST\, TUPPER LAKE\, NY\, 12986-1610\, United States
ATTACH;FMTTYPE=image/png:https://tupperlakepubliclibrary.org/wp-content/uploads/2025/09/Yarn-Social-Summer-Post-2.png
ORGANIZER;CN="Tupper Lake Public Library (AKA Goff-Nelson Memorial Library)":MAILTO:goffnelson@gmail.com
END:VEVENT
BEGIN:VEVENT
DTSTART;TZID=America/New_York:20251106T090000
DTEND;TZID=America/New_York:20251106T150000
DTSTAMP:20260423T062443
CREATED:20251029T143131Z
LAST-MODIFIED:20251029T143708Z
UID:8474-1762419600-1762441200@tupperlakepubliclibrary.org
SUMMARY:Winter Coat Drive: Item Pickup
DESCRIPTION:Thank you to all who donated to our annual Winter Coat Drive! We appreciate the support! \nAll winter items will be ready to be picked up at the Holy Ghost Parish (41 Marion Street\, Tupper Lake\, NY 12986). Come and collect some amazing winter gear just in time for the winter season!
URL:https://tupperlakepubliclibrary.org/event/winter-coat-drive-item-pickup-2/
LOCATION:Holy Ghost Parish\, 41 Marion Street\, Tupper Lake\, NY\, 12986\, United States
ATTACH;FMTTYPE=image/png:https://tupperlakepubliclibrary.org/wp-content/uploads/2025/10/2025-Winter-Coat-Drive-.png
END:VEVENT
BEGIN:VEVENT
DTSTART;TZID=America/New_York:20251105T190000
DTEND;TZID=America/New_York:20251105T200000
DTSTAMP:20260423T062443
CREATED:20251027T233318Z
LAST-MODIFIED:20251027T233318Z
UID:8393-1762369200-1762372800@tupperlakepubliclibrary.org
SUMMARY:Michael Czarnecki: Adventures in Japan
DESCRIPTION:Poet and Photographer Michael Czarnecki recently returned from a trip to Japan\, following part of the ancient journey traveled by Japanese poet\, Matsuo Bashō. Michael will be sharing his journey with us through his stories\, poetry and photographs.
URL:https://tupperlakepubliclibrary.org/event/michael-czarnecki-adventures-in-japan/
LOCATION:Tupper Lake Public Library\, 41 LAKE ST\, TUPPER LAKE\, NY\, 12986-1610\, United States
ATTACH;FMTTYPE=image/png:https://tupperlakepubliclibrary.org/wp-content/uploads/2025/10/Michael-Czarnecki-Japan-Program-Poster.png
END:VEVENT
BEGIN:VEVENT
DTSTART;TZID=America/New_York:20251105T170000
DTEND;TZID=America/New_York:20251105T200000
DTSTAMP:20260423T062443
CREATED:20251028T233024Z
LAST-MODIFIED:20251028T233024Z
UID:8456-1762362000-1762372800@tupperlakepubliclibrary.org
SUMMARY:BOCES HSE/GED Instruction
DESCRIPTION:Get your High School Diploma with FREE face to face HSE/GED instruction offered through BOCES. \nFor more information: Stop by or contact Nina McBride at 518-524-3338 or by email at Nmcbride@fehb.org.
URL:https://tupperlakepubliclibrary.org/event/boces-hse-ged-instruction-65/
LOCATION:Tupper Lake Public Library\, 41 LAKE ST\, TUPPER LAKE\, NY\, 12986-1610\, United States
ATTACH;FMTTYPE=image/png:https://tupperlakepubliclibrary.org/wp-content/uploads/2025/08/GED1.png
END:VEVENT
BEGIN:VEVENT
DTSTART;TZID=America/New_York:20251105T160000
DTEND;TZID=America/New_York:20251105T170000
DTSTAMP:20260423T062443
CREATED:20251028T231504Z
LAST-MODIFIED:20251031T211149Z
UID:8452-1762358400-1762362000@tupperlakepubliclibrary.org
SUMMARY:Miss Lisa's Craft
DESCRIPTION:Get crafty with Miss Lisa! Join her and paint with acrylics on canvases! All materials will be provided and there is no charge for this program. All children must be accompanied by an adult.
URL:https://tupperlakepubliclibrary.org/event/miss-lisas-craft-2/
LOCATION:Tupper Lake Public Library\, 41 LAKE ST\, TUPPER LAKE\, NY\, 12986-1610\, United States
ATTACH;FMTTYPE=image/png:https://tupperlakepubliclibrary.org/wp-content/uploads/2025/10/Miss-Lisas-Craft-1.png
END:VEVENT
BEGIN:VEVENT
DTSTART;TZID=America/New_York:20251105T143000
DTEND;TZID=America/New_York:20251105T163000
DTSTAMP:20260423T062443
CREATED:20251029T145712Z
LAST-MODIFIED:20251029T145712Z
UID:8489-1762353000-1762360200@tupperlakepubliclibrary.org
SUMMARY:Tupper Teens
DESCRIPTION:Join us after school for an exciting\, hands-on experience where you take the lead! Explore new skills\, play engaging games\, and bring creative art projects to life. Whether you’re into design\, strategy\, or trying something totally new\, this is your space to dream\, decide\, and create. \nThis program is for grades 7th – 12th
URL:https://tupperlakepubliclibrary.org/event/tupper-teens-48/
LOCATION:Tupper Lake Public Library\, 41 LAKE ST\, TUPPER LAKE\, NY\, 12986-1610\, United States
ATTACH;FMTTYPE=image/png:https://tupperlakepubliclibrary.org/wp-content/uploads/2025/09/Tupper-Teens-Event-Banner-4.png
ORGANIZER;CN="Tupper Lake Public Library (AKA Goff-Nelson Memorial Library)":MAILTO:goffnelson@gmail.com
END:VEVENT
BEGIN:VEVENT
DTSTART;TZID=America/New_York:20251105T090000
DTEND;TZID=America/New_York:20251105T150000
DTSTAMP:20260423T062443
CREATED:20251029T141401Z
LAST-MODIFIED:20251029T143820Z
UID:8469-1762333200-1762354800@tupperlakepubliclibrary.org
SUMMARY:Winter Coat Drive: Item Pickup
DESCRIPTION:Thank you to all who donated to our annual Winter Coat Drive! We appreciate the support! \nAll winter items will be ready to be picked up at the Holy Ghost Parish (41 Marion Street\, Tupper Lake\, NY 12986). Come and collect some amazing winter gear just in time for the winter season! \n 
URL:https://tupperlakepubliclibrary.org/event/winter-coat-drive-item-pickup/
LOCATION:Holy Ghost Parish\, 41 Marion Street\, Tupper Lake\, NY\, 12986\, United States
ATTACH;FMTTYPE=image/png:https://tupperlakepubliclibrary.org/wp-content/uploads/2025/10/2025-Winter-Coat-Drive-.png
ORGANIZER;CN="Tupper Lake Public Library (AKA Goff-Nelson Memorial Library)":MAILTO:goffnelson@gmail.com
END:VEVENT
BEGIN:VEVENT
DTSTART;TZID=America/New_York:20251104T180000
DTEND;TZID=America/New_York:20251104T200000
DTSTAMP:20260423T062443
CREATED:20251028T230945Z
LAST-MODIFIED:20251028T230945Z
UID:8445-1762279200-1762286400@tupperlakepubliclibrary.org
SUMMARY:Yarn Social
DESCRIPTION:Let’s Stich and chat together! Join a gathering of people knitting and crocheting together! Please bring your own supplies and projects.
URL:https://tupperlakepubliclibrary.org/event/yarn-social-45/
LOCATION:Tupper Lake Public Library\, 41 LAKE ST\, TUPPER LAKE\, NY\, 12986-1610\, United States
ATTACH;FMTTYPE=image/png:https://tupperlakepubliclibrary.org/wp-content/uploads/2025/09/Yarn-Social-Summer-Post-2.png
END:VEVENT
BEGIN:VEVENT
DTSTART;TZID=America/New_York:20251104T110000
DTEND;TZID=America/New_York:20251104T114500
DTSTAMP:20260423T062443
CREATED:20251028T225943Z
LAST-MODIFIED:20251028T225943Z
UID:8437-1762254000-1762256700@tupperlakepubliclibrary.org
SUMMARY:Tai Chi with JosyD (for ages 60+)
DESCRIPTION:Move\, breathe\, and flow with this gentle\, easy\, no-impact form of exercise\, Taiji Fit. Nothing to learn\, just follow along – and you can join in any session. Come try it!Helps with Balance – Flexibility – Mobility – Stress Relief – Mental Focus – Preventing Falls – Arthritis Stiffness – and more.Wear loose comfortable clothing and closed\, flat footwear. (Sneakers are fine.)Sliding Scale – Pricing$10.00 – suggested\, $5.00 – pay what you can.Drop-ins welcome.Register in person or online at www.TaiChiwithJosyD.comFor more information contact Josy Delaney at(518) 323-6867 or visit www.taichiwithjosyd.com
URL:https://tupperlakepubliclibrary.org/event/tai-chi-with-josyd-for-ages-60-10/
LOCATION:Tupper Lake Public Library\, 41 LAKE ST\, TUPPER LAKE\, NY\, 12986-1610\, United States
ATTACH;FMTTYPE=image/png:https://tupperlakepubliclibrary.org/wp-content/uploads/2025/07/Tai-Chi-with-JosyD-for-60-1.png
END:VEVENT
BEGIN:VEVENT
DTSTART;TZID=America/New_York:20251103T170000
DTEND;TZID=America/New_York:20251103T200000
DTSTAMP:20260423T062443
CREATED:20251028T214717Z
LAST-MODIFIED:20251028T214717Z
UID:8426-1762189200-1762200000@tupperlakepubliclibrary.org
SUMMARY:BOCES HSE/GED Instruction
DESCRIPTION:Get your High School Diploma with FREE face to face HSE/GED instruction offered through BOCES. For more information: Stop by or contact Nina McBride at 518-524-3338 or by email at Nmcbride@fehb.org.
URL:https://tupperlakepubliclibrary.org/event/boces-hse-ged-instruction-61/
LOCATION:Tupper Lake Public Library\, 41 LAKE ST\, TUPPER LAKE\, NY\, 12986-1610\, United States
ATTACH;FMTTYPE=image/png:https://tupperlakepubliclibrary.org/wp-content/uploads/2025/08/GED1.png
END:VEVENT
BEGIN:VEVENT
DTSTART;TZID=America/New_York:20251103T130000
DTEND;TZID=America/New_York:20251103T163000
DTSTAMP:20260423T062443
CREATED:20251027T234633Z
LAST-MODIFIED:20251028T214021Z
UID:8401-1762174800-1762187400@tupperlakepubliclibrary.org
SUMMARY:Dutch-Treat Bridge Club
DESCRIPTION:The Dutch-Treat Bridge Club is looking for new members. If you are a new player\, a bridge instructor will be available. If you are an experienced player\, we would be happy to have you! Drop in and check it out! The Dutch-Treat Bridge Club meets in the Community Room at the Tupper Lake Public Library (entrance and parking in back).
URL:https://tupperlakepubliclibrary.org/event/dutch-treat-bridge-club-17/
LOCATION:Tupper Lake Public Library\, 41 LAKE ST\, TUPPER LAKE\, NY\, 12986-1610\, United States
ATTACH;FMTTYPE=image/png:https://tupperlakepubliclibrary.org/wp-content/uploads/2025/10/Bridge-Club-2.png
END:VEVENT
BEGIN:VEVENT
DTSTART;TZID=America/New_York:20251103T100000
DTEND;TZID=America/New_York:20251103T110000
DTSTAMP:20260423T062443
CREATED:20251028T203247Z
LAST-MODIFIED:20251028T203247Z
UID:8407-1762164000-1762167600@tupperlakepubliclibrary.org
SUMMARY:Tupper Tots
DESCRIPTION:Bring your little one and connect with other caregivers for Early Literacy fun with books\, songs\, and body movement. \nFor ages 0 – preschool and their adults. This is a partnership between TLPL and Family Matters Resource Center.
URL:https://tupperlakepubliclibrary.org/event/tupper-tots-4/
LOCATION:Tupper Lake Public Library\, 41 LAKE ST\, TUPPER LAKE\, NY\, 12986-1610\, United States
ATTACH;FMTTYPE=image/png:https://tupperlakepubliclibrary.org/wp-content/uploads/2025/10/Tupper-Tots-2025.png
ORGANIZER;CN="Tupper Lake Public Library (AKA Goff-Nelson Memorial Library)":MAILTO:goffnelson@gmail.com
END:VEVENT
BEGIN:VEVENT
DTSTART;TZID=America/New_York:20251101T120000
DTEND;TZID=America/New_York:20251101T140000
DTSTAMP:20260423T062443
CREATED:20251027T234009Z
LAST-MODIFIED:20251027T234009Z
UID:8397-1761998400-1762005600@tupperlakepubliclibrary.org
SUMMARY:Krafty Kids
DESCRIPTION:Join us as we celebrate Thanksgiving with an array of simple fall themed crafts suitable for ages 4-12. \n\nAll supplies are provided and children must be accompanied by an adult.
URL:https://tupperlakepubliclibrary.org/event/krafty-kids/
LOCATION:Tupper Lake Public Library\, 41 LAKE ST\, TUPPER LAKE\, NY\, 12986-1610\, United States
ATTACH;FMTTYPE=image/png:https://tupperlakepubliclibrary.org/wp-content/uploads/2025/10/Krafty-Kids.png
END:VEVENT
BEGIN:VEVENT
DTSTART;TZID=America/New_York:20251031T100000
DTEND;TZID=America/New_York:20251031T140000
DTSTAMP:20260423T062443
CREATED:20250926T193752Z
LAST-MODIFIED:20250926T193752Z
UID:8175-1761904800-1761919200@tupperlakepubliclibrary.org
SUMMARY:Fingerprinting
DESCRIPTION:Fingerprinting is available downstairs in the Community Room\, (ENTRANCE IN BACK) every Friday by APPOINTMENT ONLY.\n\nTo make an appointment\, go to www.IdentoGO.com or call 884-321-2124.
URL:https://tupperlakepubliclibrary.org/event/fingerprinting-29/
LOCATION:Tupper Lake Public Library\, 41 LAKE ST\, TUPPER LAKE\, NY\, 12986-1610\, United States
ATTACH;FMTTYPE=image/jpeg:https://tupperlakepubliclibrary.org/wp-content/uploads/2024/09/fingerprinting.jpg
END:VEVENT
BEGIN:VEVENT
DTSTART;TZID=America/New_York:20251030T103000
DTEND;TZID=America/New_York:20251030T123000
DTSTAMP:20260423T062443
CREATED:20250924T184706Z
LAST-MODIFIED:20250924T184706Z
UID:8138-1761820200-1761827400@tupperlakepubliclibrary.org
SUMMARY:Yarn Social
DESCRIPTION:Let’s Stich and chat together! Join a gathering of people knitting and crocheting together! Please bring your own supplies and projects.
URL:https://tupperlakepubliclibrary.org/event/yarn-social-44/
LOCATION:Tupper Lake Public Library\, 41 LAKE ST\, TUPPER LAKE\, NY\, 12986-1610\, United States
ATTACH;FMTTYPE=image/png:https://tupperlakepubliclibrary.org/wp-content/uploads/2025/09/Yarn-Social-Summer-Post-2.png
END:VEVENT
BEGIN:VEVENT
DTSTART;TZID=America/New_York:20251029T170000
DTEND;TZID=America/New_York:20251029T200000
DTSTAMP:20260423T062443
CREATED:20250924T225550Z
LAST-MODIFIED:20250924T225550Z
UID:8160-1761757200-1761768000@tupperlakepubliclibrary.org
SUMMARY:BOCES HSE/GED Instruction
DESCRIPTION:Get your High School Diploma with FREE face to face HSE/GED instruction offered through BOCES.\nFor more information: Stop by or contact Nina McBride at 518-524-3338 or by email at Nmcbride@fehb.org.
URL:https://tupperlakepubliclibrary.org/event/boces-hse-ged-instruction-60/
LOCATION:Tupper Lake Public Library\, 41 LAKE ST\, TUPPER LAKE\, NY\, 12986-1610\, United States
ATTACH;FMTTYPE=image/png:https://tupperlakepubliclibrary.org/wp-content/uploads/2025/08/GED1.png
END:VEVENT
BEGIN:VEVENT
DTSTART;TZID=America/New_York:20251029T143000
DTEND;TZID=America/New_York:20251029T163000
DTSTAMP:20260423T062443
CREATED:20251002T211931Z
LAST-MODIFIED:20251002T211931Z
UID:8246-1761748200-1761755400@tupperlakepubliclibrary.org
SUMMARY:Tupper Teens
DESCRIPTION:Join us after school for an exciting\, hands-on experience where you take the lead! Explore new skills\, play engaging games\, and bring creative art projects to life. Whether you’re into design\, strategy\, or trying something totally new\, this is your space to dream\, decide\, and create. \nThis program is for grades 7th – 12th
URL:https://tupperlakepubliclibrary.org/event/tupper-teens-47/
LOCATION:Tupper Lake Public Library\, 41 LAKE ST\, TUPPER LAKE\, NY\, 12986-1610\, United States
ATTACH;FMTTYPE=image/png:https://tupperlakepubliclibrary.org/wp-content/uploads/2025/09/Tupper-Teens-Event-Banner-4.png
END:VEVENT
BEGIN:VEVENT
DTSTART;TZID=America/New_York:20251028T180000
DTEND;TZID=America/New_York:20251028T200000
DTSTAMP:20260423T062443
CREATED:20250924T183417Z
LAST-MODIFIED:20250924T183417Z
UID:8129-1761674400-1761681600@tupperlakepubliclibrary.org
SUMMARY:Yarn Social
DESCRIPTION:Let’s Stich and chat together! Join a gathering of people knitting and crocheting together! Please bring your own supplies and projects.
URL:https://tupperlakepubliclibrary.org/event/yarn-social-40/
LOCATION:Tupper Lake Public Library\, 41 LAKE ST\, TUPPER LAKE\, NY\, 12986-1610\, United States
ATTACH;FMTTYPE=image/png:https://tupperlakepubliclibrary.org/wp-content/uploads/2025/09/Yarn-Social-Summer-Post-2.png
END:VEVENT
BEGIN:VEVENT
DTSTART;TZID=America/New_York:20251028T110000
DTEND;TZID=America/New_York:20251028T114500
DTSTAMP:20260423T062443
CREATED:20251002T210234Z
LAST-MODIFIED:20251002T210234Z
UID:8235-1761649200-1761651900@tupperlakepubliclibrary.org
SUMMARY:Tai Chi with JosyD (for ages 60+)
DESCRIPTION:Move\, breathe\, and flow with this gentle\, easy\, no-impact form of exercise\, Taiji Fit. Nothing to learn\, just follow along – and you can join in any session. Come try it!Helps with Balance – Flexibility – Mobility – Stress Relief – Mental Focus – Preventing Falls – Arthritis Stiffness – and more.Wear loose comfortable clothing and closed\, flat footwear. (Sneakers are fine.)Sliding Scale – Pricing$10.00 – suggested\, $5.00 – pay what you can.Drop-ins welcome.Register in person or online at www.TaiChiwithJosyD.comFor more information contact Josy Delaney at(518) 323-6867 or visit www.taichiwithjosyd.com
URL:https://tupperlakepubliclibrary.org/event/tai-chi-with-josyd-for-ages-60-9/
LOCATION:Tupper Lake Public Library\, 41 LAKE ST\, TUPPER LAKE\, NY\, 12986-1610\, United States
ATTACH;FMTTYPE=image/png:https://tupperlakepubliclibrary.org/wp-content/uploads/2025/07/Tai-Chi-with-JosyD-for-60-1.png
END:VEVENT
BEGIN:VEVENT
DTSTART;TZID=America/New_York:20251027T170000
DTEND;TZID=America/New_York:20251027T200000
DTSTAMP:20260423T062443
CREATED:20250924T204744Z
LAST-MODIFIED:20250924T204744Z
UID:8146-1761584400-1761595200@tupperlakepubliclibrary.org
SUMMARY:BOCES HSE/GED Instruction
DESCRIPTION:Get your High School Diploma with FREE face to face HSE/GED instruction offered through BOCES.\nFor more information: Stop by or contact Nina McBride at 518-524-3338 or by email at Nmcbride@fehb.org.
URL:https://tupperlakepubliclibrary.org/event/boces-hse-ged-instruction-55/
LOCATION:Tupper Lake Public Library\, 41 LAKE ST\, TUPPER LAKE\, NY\, 12986-1610\, United States
ATTACH;FMTTYPE=image/png:https://tupperlakepubliclibrary.org/wp-content/uploads/2025/08/GED1.png
END:VEVENT
BEGIN:VEVENT
DTSTART;TZID=America/New_York:20251027T130000
DTEND;TZID=America/New_York:20251027T160000
DTSTAMP:20260423T062443
CREATED:20250924T154712Z
LAST-MODIFIED:20250924T154801Z
UID:8116-1761570000-1761580800@tupperlakepubliclibrary.org
SUMMARY:Dutch-Treat Bridge Club
DESCRIPTION:The Dutch-Treat Bridge Club is looking for new members. If you are a new player\, a bridge instructor will be available. If you are an experienced player\, we would be happy to have you! Drop in and check it out! The Dutch-Treat Bridge Club meets in the Community Room at the Tupper Lake Public Library (entrance and parking in back).
URL:https://tupperlakepubliclibrary.org/event/dutch-treat-bridge-club-16/
LOCATION:Tupper Lake Public Library\, 41 LAKE ST\, TUPPER LAKE\, NY\, 12986-1610\, United States
ATTACH;FMTTYPE=image/png:https://tupperlakepubliclibrary.org/wp-content/uploads/2025/07/Red-and-Black-Game-Night-Invitation-3.png
END:VEVENT
BEGIN:VEVENT
DTSTART;TZID=America/New_York:20251027T100000
DTEND;TZID=America/New_York:20251027T110000
DTSTAMP:20260423T062443
CREATED:20251001T232928Z
LAST-MODIFIED:20251001T232928Z
UID:8213-1761559200-1761562800@tupperlakepubliclibrary.org
SUMMARY:Tupper Tots
DESCRIPTION:Bring your little one and connect with other caregivers for Early Literacy fun with books\, songs\, and body movement. \nFor ages 0 – preschool and their adults. This is a partnership between TLPL and Family Matters Resource Center.
URL:https://tupperlakepubliclibrary.org/event/tupper-tots-3/
LOCATION:Tupper Lake Public Library\, 41 LAKE ST\, TUPPER LAKE\, NY\, 12986-1610\, United States
ATTACH;FMTTYPE=image/png:https://tupperlakepubliclibrary.org/wp-content/uploads/2025/10/Tupper-Tots-2025.png
ORGANIZER;CN="Tupper Lake Public Library (AKA Goff-Nelson Memorial Library)":MAILTO:goffnelson@gmail.com
END:VEVENT
BEGIN:VEVENT
DTSTART;TZID=America/New_York:20251024T100000
DTEND;TZID=America/New_York:20251024T140000
DTSTAMP:20260423T062443
CREATED:20250926T193643Z
LAST-MODIFIED:20250926T193643Z
UID:8173-1761300000-1761314400@tupperlakepubliclibrary.org
SUMMARY:Fingerprinting
DESCRIPTION:Fingerprinting is available downstairs in the Community Room\, (ENTRANCE IN BACK) every Friday by APPOINTMENT ONLY.\n\nTo make an appointment\, go to www.IdentoGO.com or call 884-321-2124.
URL:https://tupperlakepubliclibrary.org/event/fingerprinting-28/
LOCATION:Tupper Lake Public Library\, 41 LAKE ST\, TUPPER LAKE\, NY\, 12986-1610\, United States
ATTACH;FMTTYPE=image/jpeg:https://tupperlakepubliclibrary.org/wp-content/uploads/2024/09/fingerprinting.jpg
END:VEVENT
BEGIN:VEVENT
DTSTART;TZID=America/New_York:20251023T130000
DTEND;TZID=America/New_York:20251023T150000
DTSTAMP:20260423T062443
CREATED:20251003T202702Z
LAST-MODIFIED:20251003T202702Z
UID:8258-1761224400-1761231600@tupperlakepubliclibrary.org
SUMMARY:Young @ Heart
DESCRIPTION:Young @ Heart Senior Crafts are back again this month! Join us for some fall themed crafts! \nThis program is aimed towards seniors\, but all are welcome to attend!
URL:https://tupperlakepubliclibrary.org/event/young-heart/
LOCATION:Tupper Lake Public Library\, 41 LAKE ST\, TUPPER LAKE\, NY\, 12986-1610\, United States
ATTACH;FMTTYPE=image/png:https://tupperlakepubliclibrary.org/wp-content/uploads/2025/10/Young-@-Heart-Generic-2.png
END:VEVENT
END:VCALENDAR