BEGIN:VCALENDAR
VERSION:2.0
PRODID:-//Tupper Lake Public Library - ECPv6.15.20//NONSGML v1.0//EN
CALSCALE:GREGORIAN
METHOD:PUBLISH
X-WR-CALNAME:Tupper Lake Public Library
X-ORIGINAL-URL:https://tupperlakepubliclibrary.org
X-WR-CALDESC:Events for Tupper Lake Public Library
REFRESH-INTERVAL;VALUE=DURATION:PT1H
X-Robots-Tag:noindex
X-PUBLISHED-TTL:PT1H
BEGIN:VTIMEZONE
TZID:America/New_York
BEGIN:DAYLIGHT
TZOFFSETFROM:-0500
TZOFFSETTO:-0400
TZNAME:EDT
DTSTART:20240310T070000
END:DAYLIGHT
BEGIN:STANDARD
TZOFFSETFROM:-0400
TZOFFSETTO:-0500
TZNAME:EST
DTSTART:20241103T060000
END:STANDARD
BEGIN:DAYLIGHT
TZOFFSETFROM:-0500
TZOFFSETTO:-0400
TZNAME:EDT
DTSTART:20250309T070000
END:DAYLIGHT
BEGIN:STANDARD
TZOFFSETFROM:-0400
TZOFFSETTO:-0500
TZNAME:EST
DTSTART:20251102T060000
END:STANDARD
BEGIN:DAYLIGHT
TZOFFSETFROM:-0500
TZOFFSETTO:-0400
TZNAME:EDT
DTSTART:20260308T070000
END:DAYLIGHT
BEGIN:STANDARD
TZOFFSETFROM:-0400
TZOFFSETTO:-0500
TZNAME:EST
DTSTART:20261101T060000
END:STANDARD
END:VTIMEZONE
BEGIN:VEVENT
DTSTART;TZID=America/New_York:20251008T170000
DTEND;TZID=America/New_York:20251008T200000
DTSTAMP:20260424T143523
CREATED:20250924T220023Z
LAST-MODIFIED:20250924T220023Z
UID:8151-1759942800-1759953600@tupperlakepubliclibrary.org
SUMMARY:BOCES HSE/GED Instruction
DESCRIPTION:Get your High School Diploma with FREE face to face HSE/GED instruction offered through BOCES.\nFor more information: Stop by or contact Nina McBride at 518-524-3338 or by email at Nmcbride@fehb.org.
URL:https://tupperlakepubliclibrary.org/event/boces-hse-ged-instruction-57/
LOCATION:Tupper Lake Public Library\, 41 LAKE ST\, TUPPER LAKE\, NY\, 12986-1610\, United States
ATTACH;FMTTYPE=image/png:https://tupperlakepubliclibrary.org/wp-content/uploads/2025/08/GED1.png
END:VEVENT
BEGIN:VEVENT
DTSTART;TZID=America/New_York:20251008T143000
DTEND;TZID=America/New_York:20251008T163000
DTSTAMP:20260424T143523
CREATED:20251002T210530Z
LAST-MODIFIED:20251002T210617Z
UID:8238-1759933800-1759941000@tupperlakepubliclibrary.org
SUMMARY:Tupper Teens
DESCRIPTION:Join us after school for an exciting\, hands-on experience where you take the lead! Explore new skills\, play engaging games\, and bring creative art projects to life. Whether you’re into design\, strategy\, or trying something totally new\, this is your space to dream\, decide\, and create. \nThis program is for grades 7th – 12th
URL:https://tupperlakepubliclibrary.org/event/tupper-teens-45/
LOCATION:Tupper Lake Public Library\, 41 LAKE ST\, TUPPER LAKE\, NY\, 12986-1610\, United States
ATTACH;FMTTYPE=image/png:https://tupperlakepubliclibrary.org/wp-content/uploads/2025/09/Tupper-Teens-Event-Banner-4.png
END:VEVENT
BEGIN:VEVENT
DTSTART;TZID=America/New_York:20251007T180000
DTEND;TZID=America/New_York:20251007T200000
DTSTAMP:20260424T143523
CREATED:20250924T160101Z
LAST-MODIFIED:20250924T160101Z
UID:8122-1759860000-1759867200@tupperlakepubliclibrary.org
SUMMARY:Yarn Social
DESCRIPTION:Let’s Stich and chat together! Join a gathering of people knitting and crocheting together! Please bring your own supplies and projects.
URL:https://tupperlakepubliclibrary.org/event/yarn-social-37/
LOCATION:Tupper Lake Public Library\, 41 LAKE ST\, TUPPER LAKE\, NY\, 12986-1610\, United States
ATTACH;FMTTYPE=image/png:https://tupperlakepubliclibrary.org/wp-content/uploads/2025/09/Yarn-Social-Summer-Post-2.png
END:VEVENT
BEGIN:VEVENT
DTSTART;TZID=America/New_York:20251007T110000
DTEND;TZID=America/New_York:20251007T114500
DTSTAMP:20260424T143523
CREATED:20251002T205755Z
LAST-MODIFIED:20251002T205755Z
UID:8226-1759834800-1759837500@tupperlakepubliclibrary.org
SUMMARY:Tai Chi with JosyD (for ages 60+)
DESCRIPTION:Move\, breathe\, and flow with this gentle\, easy\, no-impact form of exercise\, Taiji Fit. Nothing to learn\, just follow along – and you can join in any session. Come try it!Helps with Balance – Flexibility – Mobility – Stress Relief – Mental Focus – Preventing Falls – Arthritis Stiffness – and more.Wear loose comfortable clothing and closed\, flat footwear. (Sneakers are fine.)Sliding Scale – Pricing$10.00 – suggested\, $5.00 – pay what you can.Drop-ins welcome.Register in person or online at www.TaiChiwithJosyD.comFor more information contact Josy Delaney at(518) 323-6867 or visit www.taichiwithjosyd.com
URL:https://tupperlakepubliclibrary.org/event/tai-chi-with-josyd-for-ages-60-6/
LOCATION:Tupper Lake Public Library\, 41 LAKE ST\, TUPPER LAKE\, NY\, 12986-1610\, United States
ATTACH;FMTTYPE=image/png:https://tupperlakepubliclibrary.org/wp-content/uploads/2025/07/Tai-Chi-with-JosyD-for-60-1.png
END:VEVENT
BEGIN:VEVENT
DTSTART;TZID=America/New_York:20251006T170000
DTEND;TZID=America/New_York:20251006T200000
DTSTAMP:20260424T143523
CREATED:20250924T200042Z
LAST-MODIFIED:20250924T200042Z
UID:8140-1759770000-1759780800@tupperlakepubliclibrary.org
SUMMARY:BOCES HSE/GED Instruction
DESCRIPTION:Get your High School Diploma with FREE face to face HSE/GED instruction offered through BOCES.\nFor more information: Stop by or contact Nina McBride at 518-524-3338 or by email at Nmcbride@fehb.org.
URL:https://tupperlakepubliclibrary.org/event/boces-hse-ged-instruction-53/
LOCATION:Tupper Lake Public Library\, 41 LAKE ST\, TUPPER LAKE\, NY\, 12986-1610\, United States
ATTACH;FMTTYPE=image/png:https://tupperlakepubliclibrary.org/wp-content/uploads/2025/08/GED1.png
END:VEVENT
BEGIN:VEVENT
DTSTART;TZID=America/New_York:20251006T130000
DTEND;TZID=America/New_York:20251006T160000
DTSTAMP:20260424T143523
CREATED:20250924T154000Z
LAST-MODIFIED:20250924T154000Z
UID:8111-1759755600-1759766400@tupperlakepubliclibrary.org
SUMMARY:Dutch-Treat Bridge Club
DESCRIPTION:The Dutch-Treat Bridge Club is looking for new members. If you are a new player\, a bridge instructor will be available. If you are an experienced player\, we would be happy to have you! Drop in and check it out! The Dutch-Treat Bridge Club meets in the Community Room at the Tupper Lake Public Library (entrance and parking in back).
URL:https://tupperlakepubliclibrary.org/event/dutch-treat-bridge-club-14/
LOCATION:Tupper Lake Public Library\, 41 LAKE ST\, TUPPER LAKE\, NY\, 12986-1610\, United States
ATTACH;FMTTYPE=image/png:https://tupperlakepubliclibrary.org/wp-content/uploads/2025/07/Red-and-Black-Game-Night-Invitation-3.png
END:VEVENT
BEGIN:VEVENT
DTSTART;TZID=America/New_York:20251006T100000
DTEND;TZID=America/New_York:20251006T110000
DTSTAMP:20260424T143523
CREATED:20251001T222907Z
LAST-MODIFIED:20251001T222907Z
UID:8207-1759744800-1759748400@tupperlakepubliclibrary.org
SUMMARY:Tupper Tots
DESCRIPTION:Bring your little one and connect with other caregivers for Early Literacy fun with books\, songs\, and body movement. \nFor ages 0 – preschool and their adults. This is a partnership between TLPL and Family Matters Resource Center.
URL:https://tupperlakepubliclibrary.org/event/tupper-tots/
LOCATION:Tupper Lake Public Library\, 41 LAKE ST\, TUPPER LAKE\, NY\, 12986-1610\, United States
ATTACH;FMTTYPE=image/png:https://tupperlakepubliclibrary.org/wp-content/uploads/2025/10/Tupper-Tots-2025.png
ORGANIZER;CN="Tupper Lake Public Library (AKA Goff-Nelson Memorial Library)":MAILTO:goffnelson@gmail.com
END:VEVENT
BEGIN:VEVENT
DTSTART;TZID=America/New_York:20251003T103000
DTEND;TZID=America/New_York:20251003T113000
DTSTAMP:20260424T143523
CREATED:20250826T210821Z
LAST-MODIFIED:20250826T210821Z
UID:7827-1759487400-1759491000@tupperlakepubliclibrary.org
SUMMARY:AAC Book Club: Still Life by Louise Penny
DESCRIPTION:This book club is for participants ages 60 and up! We meet on the first Friday of the month at the Adirondack Adult Center (179 Demars Blvd). We will discuss Still Life by Louise Penny.
URL:https://tupperlakepubliclibrary.org/event/aac-book-club-still-life-by-louise-penny/
LOCATION:Adirondack Adult Center\, 179 Demars Blvd\, Tupper Lake\, NY\, 12986
ATTACH;FMTTYPE=image/png:https://tupperlakepubliclibrary.org/wp-content/uploads/2025/08/Still-Life-by-Louise-Penny.png
END:VEVENT
BEGIN:VEVENT
DTSTART;TZID=America/New_York:20251003T100000
DTEND;TZID=America/New_York:20251003T140000
DTSTAMP:20260424T143523
CREATED:20250926T193419Z
LAST-MODIFIED:20250926T193419Z
UID:8166-1759485600-1759500000@tupperlakepubliclibrary.org
SUMMARY:Fingerprinting
DESCRIPTION:Fingerprinting is available downstairs in the Community Room\, (ENTRANCE IN BACK) every Friday by APPOINTMENT ONLY.\n\nTo make an appointment\, go to www.IdentoGO.com or call 884-321-2124.
URL:https://tupperlakepubliclibrary.org/event/fingerprinting-25/
LOCATION:Tupper Lake Public Library\, 41 LAKE ST\, TUPPER LAKE\, NY\, 12986-1610\, United States
ATTACH;FMTTYPE=image/jpeg:https://tupperlakepubliclibrary.org/wp-content/uploads/2024/09/fingerprinting.jpg
END:VEVENT
BEGIN:VEVENT
DTSTART;TZID=America/New_York:20251002T130000
DTEND;TZID=America/New_York:20251002T140000
DTSTAMP:20260424T143523
CREATED:20250917T221157Z
LAST-MODIFIED:20250917T221157Z
UID:8078-1759410000-1759413600@tupperlakepubliclibrary.org
SUMMARY:Jane Austen Reading Group Afternoon Tea
DESCRIPTION:Join a society devoted to the reading and discussion of Miss Jane Austen’s works. Our Inaugural Session will be held as an Afternoon Tea on Thursday\, October 2\, 2025 • 1:00 PM in the Tupper Lake Library Community Room.\n\n\n\nTo learn more about the new Jane Austen Book Club beginning on Thursday\, October 30th\, attend Afternoon Tea on Tuesday\, October 2\, 2025 at 1:00 PM. RSVP via QR Code by September 30th. There are only 10 open spots\, first come\, first served.
URL:https://tupperlakepubliclibrary.org/event/jane-austen-reading-group-afternoon-tea/
LOCATION:Tupper Lake Public Library\, 41 LAKE ST\, TUPPER LAKE\, NY\, 12986-1610\, United States
ATTACH;FMTTYPE=image/png:https://tupperlakepubliclibrary.org/wp-content/uploads/2025/09/Copy-of-Jane-Austen-Book-Club.png
END:VEVENT
BEGIN:VEVENT
DTSTART;TZID=America/New_York:20251002T103000
DTEND;TZID=America/New_York:20251002T123000
DTSTAMP:20260424T143523
CREATED:20250924T155810Z
LAST-MODIFIED:20250924T155810Z
UID:8119-1759401000-1759408200@tupperlakepubliclibrary.org
SUMMARY:Yarn Social
DESCRIPTION:Let’s Stich and chat together! Join a gathering of people knitting and crocheting together! Please bring your own supplies and projects.
URL:https://tupperlakepubliclibrary.org/event/yarn-social-36/
LOCATION:Tupper Lake Public Library\, 41 LAKE ST\, TUPPER LAKE\, NY\, 12986-1610\, United States
ATTACH;FMTTYPE=image/png:https://tupperlakepubliclibrary.org/wp-content/uploads/2025/09/Yarn-Social-Summer-Post-2.png
END:VEVENT
BEGIN:VEVENT
DTSTART;TZID=America/New_York:20251001T170000
DTEND;TZID=America/New_York:20251001T200000
DTSTAMP:20260424T143523
CREATED:20250924T205203Z
LAST-MODIFIED:20250924T205203Z
UID:8148-1759338000-1759348800@tupperlakepubliclibrary.org
SUMMARY:BOCES HSE/GED Instruction
DESCRIPTION:Get your High School Diploma with FREE face to face HSE/GED instruction offered through BOCES.\nFor more information: Stop by or contact Nina McBride at 518-524-3338 or by email at Nmcbride@fehb.org.
URL:https://tupperlakepubliclibrary.org/event/boces-hse-ged-instruction-56/
LOCATION:Tupper Lake Public Library\, 41 LAKE ST\, TUPPER LAKE\, NY\, 12986-1610\, United States
ATTACH;FMTTYPE=image/png:https://tupperlakepubliclibrary.org/wp-content/uploads/2025/08/GED1.png
END:VEVENT
BEGIN:VEVENT
DTSTART;TZID=America/New_York:20251001T160000
DTEND;TZID=America/New_York:20251001T170000
DTSTAMP:20260424T143523
CREATED:20250908T225017Z
LAST-MODIFIED:20250908T225017Z
UID:8011-1759334400-1759338000@tupperlakepubliclibrary.org
SUMMARY:Miss Lisa's Crafts: Beaded Bracelet Workshop
DESCRIPTION:Join Miss Lisa and create your every own beaded bracelet! All materials will be provided and there is no cost for this workshop.Children must be accompanied by an adult.
URL:https://tupperlakepubliclibrary.org/event/miss-lisas-crafts-beaded-bracelet-workshop/
LOCATION:Tupper Lake Public Library\, 41 LAKE ST\, TUPPER LAKE\, NY\, 12986-1610\, United States
ATTACH;FMTTYPE=image/png:https://tupperlakepubliclibrary.org/wp-content/uploads/2025/09/Miss-Lisa-Crafts.png
END:VEVENT
BEGIN:VEVENT
DTSTART;TZID=America/New_York:20250930T180000
DTEND;TZID=America/New_York:20250930T193000
DTSTAMP:20260424T143523
CREATED:20250826T211927Z
LAST-MODIFIED:20250826T211927Z
UID:7839-1759255200-1759260600@tupperlakepubliclibrary.org
SUMMARY:Yarn Social
DESCRIPTION:Let’s Stich and chat together! Join a gathering of people knitting and crocheting together! Please bring your own supplies and projects.
URL:https://tupperlakepubliclibrary.org/event/yarn-social-31/
LOCATION:Tupper Lake Public Library\, 41 LAKE ST\, TUPPER LAKE\, NY\, 12986-1610\, United States
ATTACH;FMTTYPE=image/png:https://tupperlakepubliclibrary.org/wp-content/uploads/2025/07/Yarn-Social-Summer-Post-1.png
END:VEVENT
BEGIN:VEVENT
DTSTART;TZID=America/New_York:20250930T110000
DTEND;TZID=America/New_York:20250930T114500
DTSTAMP:20260424T143523
CREATED:20250826T214649Z
LAST-MODIFIED:20250826T214649Z
UID:7862-1759230000-1759232700@tupperlakepubliclibrary.org
SUMMARY:Tai Chi with JosyD (for ages 60+)
DESCRIPTION:Move\, breathe\, and flow with this gentle\, easy\, no-impact form of exercise\, Taiji Fit. Nothing to learn\, just follow along – and you can join in any session. Come try it!Helps with Balance – Flexibility – Mobility – Stress Relief – Mental Focus – Preventing Falls – Arthritis Stiffness – and more.Wear loose comfortable clothing and closed\, flat footwear. (Sneakers are fine.)Sliding Scale – Pricing$10.00 – suggested\, $5.00 – pay what you can.Drop-ins welcome.Register in person or online at www.TaiChiwithJosyD.comFor more information contact Josy Delaney at(518) 323-6867 or visit www.taichiwithjosyd.com
URL:https://tupperlakepubliclibrary.org/event/tai-chi-with-josyd-for-ages-60-5/
LOCATION:Tupper Lake Public Library\, 41 LAKE ST\, TUPPER LAKE\, NY\, 12986-1610\, United States
ATTACH;FMTTYPE=image/png:https://tupperlakepubliclibrary.org/wp-content/uploads/2025/07/Tai-Chi-with-JosyD-for-60-1.png
END:VEVENT
BEGIN:VEVENT
DTSTART;TZID=America/New_York:20250929T170000
DTEND;TZID=America/New_York:20250929T200000
DTSTAMP:20260424T143523
CREATED:20250826T215852Z
LAST-MODIFIED:20250826T215852Z
UID:7872-1759165200-1759176000@tupperlakepubliclibrary.org
SUMMARY:BOCES HSE/GED Instruction
DESCRIPTION:Get your High School Diploma with FREE face to face HSE/GED instruction offered through BOCES.\nFor more information: Stop by or contact Nina McBride at 518-524-3338 or by email at Nmcbride@fehb.org.
URL:https://tupperlakepubliclibrary.org/event/boces-hse-ged-instruction-49/
LOCATION:Tupper Lake Public Library\, 41 LAKE ST\, TUPPER LAKE\, NY\, 12986-1610\, United States
ATTACH;FMTTYPE=image/png:https://tupperlakepubliclibrary.org/wp-content/uploads/2025/08/GED1.png
END:VEVENT
BEGIN:VEVENT
DTSTART;TZID=America/New_York:20250929T130000
DTEND;TZID=America/New_York:20250929T160000
DTSTAMP:20260424T143523
CREATED:20250826T221421Z
LAST-MODIFIED:20250826T221421Z
UID:7890-1759150800-1759161600@tupperlakepubliclibrary.org
SUMMARY:Dutch-Treat Bridge Club
DESCRIPTION:The Dutch-Treat Bridge Club is looking for new members. If you are a new player\, a bridge instructor will be available. If you are an experienced player\, we would be happy to have you! Drop in and check it out! The Dutch-Treat Bridge Club meets in the Community Room at the Tupper Lake Public Library (entrance and parking in back).
URL:https://tupperlakepubliclibrary.org/event/dutch-treat-bridge-club-13/
LOCATION:Tupper Lake Public Library\, 41 LAKE ST\, TUPPER LAKE\, NY\, 12986-1610\, United States
ATTACH;FMTTYPE=image/png:https://tupperlakepubliclibrary.org/wp-content/uploads/2025/07/Red-and-Black-Game-Night-Invitation-3.png
END:VEVENT
BEGIN:VEVENT
DTSTART;TZID=America/New_York:20250926T100000
DTEND;TZID=America/New_York:20250926T140000
DTSTAMP:20260424T143523
CREATED:20250826T222210Z
LAST-MODIFIED:20250826T222210Z
UID:7899-1758880800-1758895200@tupperlakepubliclibrary.org
SUMMARY:Fingerprinting
DESCRIPTION:Fingerprinting is available downstairs in the Community Room\, (ENTRANCE IN BACK) every Friday by APPOINTMENT ONLY.\n\nTo make an appointment\, go to www.IdentoGO.com or call 884-321-2124.
URL:https://tupperlakepubliclibrary.org/event/fingerprinting-24/
LOCATION:Tupper Lake Public Library\, 41 LAKE ST\, TUPPER LAKE\, NY\, 12986-1610\, United States
ATTACH;FMTTYPE=image/jpeg:https://tupperlakepubliclibrary.org/wp-content/uploads/2024/09/fingerprinting.jpg
END:VEVENT
BEGIN:VEVENT
DTSTART;TZID=America/New_York:20250925T130000
DTEND;TZID=America/New_York:20250925T150000
DTSTAMP:20260424T143523
CREATED:20250903T234843Z
LAST-MODIFIED:20250903T234843Z
UID:7972-1758805200-1758812400@tupperlakepubliclibrary.org
SUMMARY:Young @ Heart - Senior Crafts
DESCRIPTION:Join us each month for a fun\, themed craft session! \n\n\nAll materials are provided\, and there’s no cost to participate. \n\n\nThis program is designed for seniors\, but everyone is welcome to attend.
URL:https://tupperlakepubliclibrary.org/event/young-heart-senior-crafts-4/
LOCATION:Tupper Lake Public Library\, 41 LAKE ST\, TUPPER LAKE\, NY\, 12986-1610\, United States
ATTACH;FMTTYPE=image/png:https://tupperlakepubliclibrary.org/wp-content/uploads/2025/09/Young-@-Heart-Generic-1.png
END:VEVENT
BEGIN:VEVENT
DTSTART;TZID=America/New_York:20250925T103000
DTEND;TZID=America/New_York:20250925T123000
DTSTAMP:20260424T143523
CREATED:20250826T212804Z
LAST-MODIFIED:20250826T212804Z
UID:7848-1758796200-1758803400@tupperlakepubliclibrary.org
SUMMARY:Yarn Social
DESCRIPTION:Let’s Stich and chat together! Join a gathering of people knitting and crocheting together! Please bring your own supplies and projects.
URL:https://tupperlakepubliclibrary.org/event/yarn-social-35/
LOCATION:Tupper Lake Public Library\, 41 LAKE ST\, TUPPER LAKE\, NY\, 12986-1610\, United States
ATTACH;FMTTYPE=image/png:https://tupperlakepubliclibrary.org/wp-content/uploads/2025/07/Yarn-Social-Summer-Post-1.png
END:VEVENT
BEGIN:VEVENT
DTSTART;TZID=America/New_York:20250924T170000
DTEND;TZID=America/New_York:20250924T200000
DTSTAMP:20260424T143523
CREATED:20250826T220621Z
LAST-MODIFIED:20250826T220621Z
UID:7878-1758733200-1758744000@tupperlakepubliclibrary.org
SUMMARY:BOCES HSE/GED Instruction
DESCRIPTION:Get your High School Diploma with FREE face to face HSE/GED instruction offered through BOCES.\nFor more information: Stop by or contact Nina McBride at 518-524-3338 or by email at Nmcbride@fehb.org.
URL:https://tupperlakepubliclibrary.org/event/boces-hse-ged-instruction-52/
LOCATION:Tupper Lake Public Library\, 41 LAKE ST\, TUPPER LAKE\, NY\, 12986-1610\, United States
ATTACH;FMTTYPE=image/png:https://tupperlakepubliclibrary.org/wp-content/uploads/2025/08/GED1.png
END:VEVENT
BEGIN:VEVENT
DTSTART;TZID=America/New_York:20250924T143000
DTEND;TZID=America/New_York:20250924T163000
DTSTAMP:20260424T143523
CREATED:20250903T225938Z
LAST-MODIFIED:20250903T225938Z
UID:7961-1758724200-1758731400@tupperlakepubliclibrary.org
SUMMARY:Tupper Teens
DESCRIPTION:Join us after school for an exciting\, hands-on experience where you take the lead! Explore new skills\, play engaging games\, and bring creative art projects to life. Whether you’re into design\, strategy\, or trying something totally new\, this is your space to dream\, decide\, and create.  \nThis program is for grades 7th – 12th.
URL:https://tupperlakepubliclibrary.org/event/tupper-teens-44/
LOCATION:Tupper Lake Public Library\, 41 LAKE ST\, TUPPER LAKE\, NY\, 12986-1610\, United States
ATTACH;FMTTYPE=image/png:https://tupperlakepubliclibrary.org/wp-content/uploads/2025/09/Tupper-Teens-Event-Banner-4.png
END:VEVENT
BEGIN:VEVENT
DTSTART;TZID=America/New_York:20250923T180000
DTEND;TZID=America/New_York:20250923T193000
DTSTAMP:20260424T143523
CREATED:20250826T211551Z
LAST-MODIFIED:20250826T211551Z
UID:7837-1758650400-1758655800@tupperlakepubliclibrary.org
SUMMARY:Yarn Social
DESCRIPTION:Let’s Stich and chat together! Join a gathering of people knitting and crocheting together! Please bring your own supplies and projects.
URL:https://tupperlakepubliclibrary.org/event/yarn-social-30/
LOCATION:Tupper Lake Public Library\, 41 LAKE ST\, TUPPER LAKE\, NY\, 12986-1610\, United States
ATTACH;FMTTYPE=image/png:https://tupperlakepubliclibrary.org/wp-content/uploads/2025/07/Yarn-Social-Summer-Post-1.png
END:VEVENT
BEGIN:VEVENT
DTSTART;TZID=America/New_York:20250923T160000
DTEND;TZID=America/New_York:20250923T170000
DTSTAMP:20260424T143523
CREATED:20250903T234431Z
LAST-MODIFIED:20250903T235010Z
UID:7965-1758643200-1758646800@tupperlakepubliclibrary.org
SUMMARY:Steps to Better Balance and Fall Prevention
DESCRIPTION:Join Josy Delany for an informative session on different methods to help prevent falls. During the session\, participants will be able to create their own fall prevention action plan.This event will be held at the Tupper Lake Public Library’s Community Room (Entrance in Back)
URL:https://tupperlakepubliclibrary.org/event/steps-to-better-balance-and-fall-prevention/
LOCATION:Tupper Lake Public Library\, 41 LAKE ST\, TUPPER LAKE\, NY\, 12986-1610\, United States
ATTACH;FMTTYPE=image/png:https://tupperlakepubliclibrary.org/wp-content/uploads/2025/09/Falls-Prevention.png
END:VEVENT
BEGIN:VEVENT
DTSTART;TZID=America/New_York:20250923T110000
DTEND;TZID=America/New_York:20250923T114500
DTSTAMP:20260424T143523
CREATED:20250826T214343Z
LAST-MODIFIED:20250826T214343Z
UID:7860-1758625200-1758627900@tupperlakepubliclibrary.org
SUMMARY:Tai Chi with JosyD (for ages 60+)
DESCRIPTION:Move\, breathe\, and flow with this gentle\, easy\, no-impact form of exercise\, Taiji Fit. Nothing to learn\, just follow along – and you can join in any session. Come try it!Helps with Balance – Flexibility – Mobility – Stress Relief – Mental Focus – Preventing Falls – Arthritis Stiffness – and more.Wear loose comfortable clothing and closed\, flat footwear. (Sneakers are fine.)Sliding Scale – Pricing$10.00 – suggested\, $5.00 – pay what you can.Drop-ins welcome.Register in person or online at www.TaiChiwithJosyD.comFor more information contact Josy Delaney at(518) 323-6867 or visit www.taichiwithjosyd.com
URL:https://tupperlakepubliclibrary.org/event/tai-chi-with-josyd-for-ages-60-4/
LOCATION:Tupper Lake Public Library\, 41 LAKE ST\, TUPPER LAKE\, NY\, 12986-1610\, United States
ATTACH;FMTTYPE=image/png:https://tupperlakepubliclibrary.org/wp-content/uploads/2025/07/Tai-Chi-with-JosyD-for-60-1.png
END:VEVENT
BEGIN:VEVENT
DTSTART;TZID=America/New_York:20250922T170000
DTEND;TZID=America/New_York:20250922T200000
DTSTAMP:20260424T143523
CREATED:20250826T215705Z
LAST-MODIFIED:20250826T215705Z
UID:7870-1758560400-1758571200@tupperlakepubliclibrary.org
SUMMARY:BOCES HSE/GED Instruction
DESCRIPTION:Get your High School Diploma with FREE face to face HSE/GED instruction offered through BOCES.\nFor more information: Stop by or contact Nina McBride at 518-524-3338 or by email at Nmcbride@fehb.org.
URL:https://tupperlakepubliclibrary.org/event/boces-hse-ged-instruction-48/
LOCATION:Tupper Lake Public Library\, 41 LAKE ST\, TUPPER LAKE\, NY\, 12986-1610\, United States
ATTACH;FMTTYPE=image/png:https://tupperlakepubliclibrary.org/wp-content/uploads/2025/08/GED1.png
END:VEVENT
BEGIN:VEVENT
DTSTART;TZID=America/New_York:20250922T130000
DTEND;TZID=America/New_York:20250922T160000
DTSTAMP:20260424T143523
CREATED:20250826T221308Z
LAST-MODIFIED:20250826T221308Z
UID:7888-1758546000-1758556800@tupperlakepubliclibrary.org
SUMMARY:Dutch-Treat Bridge Club
DESCRIPTION:The Dutch-Treat Bridge Club is looking for new members. If you are a new player\, a bridge instructor will be available. If you are an experienced player\, we would be happy to have you! Drop in and check it out! The Dutch-Treat Bridge Club meets in the Community Room at the Tupper Lake Public Library (entrance and parking in back).
URL:https://tupperlakepubliclibrary.org/event/dutch-treat-bridge-club-12/
LOCATION:Tupper Lake Public Library\, 41 LAKE ST\, TUPPER LAKE\, NY\, 12986-1610\, United States
ATTACH;FMTTYPE=image/png:https://tupperlakepubliclibrary.org/wp-content/uploads/2025/07/Red-and-Black-Game-Night-Invitation-3.png
END:VEVENT
BEGIN:VEVENT
DTSTART;TZID=America/New_York:20250919T100000
DTEND;TZID=America/New_York:20250919T140000
DTSTAMP:20260424T143523
CREATED:20250826T222039Z
LAST-MODIFIED:20250826T222039Z
UID:7897-1758276000-1758290400@tupperlakepubliclibrary.org
SUMMARY:Fingerprinting
DESCRIPTION:Fingerprinting is available downstairs in the Community Room\, (ENTRANCE IN BACK) every Friday by APPOINTMENT ONLY.\n\nTo make an appointment\, go to www.IdentoGO.com or call 884-321-2124.
URL:https://tupperlakepubliclibrary.org/event/fingerprinting-23/
LOCATION:Tupper Lake Public Library\, 41 LAKE ST\, TUPPER LAKE\, NY\, 12986-1610\, United States
ATTACH;FMTTYPE=image/jpeg:https://tupperlakepubliclibrary.org/wp-content/uploads/2024/09/fingerprinting.jpg
END:VEVENT
BEGIN:VEVENT
DTSTART;TZID=America/New_York:20250918T103000
DTEND;TZID=America/New_York:20250918T123000
DTSTAMP:20260424T143523
CREATED:20250826T212515Z
LAST-MODIFIED:20250826T212515Z
UID:7846-1758191400-1758198600@tupperlakepubliclibrary.org
SUMMARY:Yarn Social
DESCRIPTION:Let’s Stich and chat together! Join a gathering of people knitting and crocheting together! Please bring your own supplies and projects.
URL:https://tupperlakepubliclibrary.org/event/yarn-social-34/
LOCATION:Tupper Lake Public Library\, 41 LAKE ST\, TUPPER LAKE\, NY\, 12986-1610\, United States
ATTACH;FMTTYPE=image/png:https://tupperlakepubliclibrary.org/wp-content/uploads/2025/07/Yarn-Social-Summer-Post-1.png
END:VEVENT
BEGIN:VEVENT
DTSTART;TZID=America/New_York:20250917T170000
DTEND;TZID=America/New_York:20250917T200000
DTSTAMP:20260424T143523
CREATED:20250826T220403Z
LAST-MODIFIED:20250826T220403Z
UID:7876-1758128400-1758139200@tupperlakepubliclibrary.org
SUMMARY:BOCES HSE/GED Instruction
DESCRIPTION:Get your High School Diploma with FREE face to face HSE/GED instruction offered through BOCES.\nFor more information: Stop by or contact Nina McBride at 518-524-3338 or by email at Nmcbride@fehb.org.
URL:https://tupperlakepubliclibrary.org/event/boces-hse-ged-instruction-51/
LOCATION:Tupper Lake Public Library\, 41 LAKE ST\, TUPPER LAKE\, NY\, 12986-1610\, United States
ATTACH;FMTTYPE=image/png:https://tupperlakepubliclibrary.org/wp-content/uploads/2025/08/GED1.png
END:VEVENT
END:VCALENDAR