BEGIN:VCALENDAR
VERSION:2.0
PRODID:-//Tupper Lake Public Library - ECPv6.15.20//NONSGML v1.0//EN
CALSCALE:GREGORIAN
METHOD:PUBLISH
X-WR-CALNAME:Tupper Lake Public Library
X-ORIGINAL-URL:https://tupperlakepubliclibrary.org
X-WR-CALDESC:Events for Tupper Lake Public Library
REFRESH-INTERVAL;VALUE=DURATION:PT1H
X-Robots-Tag:noindex
X-PUBLISHED-TTL:PT1H
BEGIN:VTIMEZONE
TZID:America/New_York
BEGIN:DAYLIGHT
TZOFFSETFROM:-0500
TZOFFSETTO:-0400
TZNAME:EDT
DTSTART:20250309T070000
END:DAYLIGHT
BEGIN:STANDARD
TZOFFSETFROM:-0400
TZOFFSETTO:-0500
TZNAME:EST
DTSTART:20251102T060000
END:STANDARD
BEGIN:DAYLIGHT
TZOFFSETFROM:-0500
TZOFFSETTO:-0400
TZNAME:EDT
DTSTART:20260308T070000
END:DAYLIGHT
BEGIN:STANDARD
TZOFFSETFROM:-0400
TZOFFSETTO:-0500
TZNAME:EST
DTSTART:20261101T060000
END:STANDARD
BEGIN:DAYLIGHT
TZOFFSETFROM:-0500
TZOFFSETTO:-0400
TZNAME:EDT
DTSTART:20270314T070000
END:DAYLIGHT
BEGIN:STANDARD
TZOFFSETFROM:-0400
TZOFFSETTO:-0500
TZNAME:EST
DTSTART:20271107T060000
END:STANDARD
END:VTIMEZONE
BEGIN:VEVENT
DTSTART;TZID=America/New_York:20260211T143000
DTEND;TZID=America/New_York:20260211T163000
DTSTAMP:20260422T081257
CREATED:20260130T210619Z
LAST-MODIFIED:20260130T210619Z
UID:9296-1770820200-1770827400@tupperlakepubliclibrary.org
SUMMARY:Tupper Teens
DESCRIPTION:Join us after school for an exciting\, hands-on experience where you take the lead! Explore new skills\, play engaging games\, and bring creative art projects to life. Whether you’re into design\, strategy\, or trying something totally new\, this is your space to dream\, decide\, and create.\n\nThis program is for grades 7th – 12th.
URL:https://tupperlakepubliclibrary.org/event/tupper-teens-59/
LOCATION:Tupper Lake Public Library\, 41 LAKE ST\, TUPPER LAKE\, NY\, 12986-1610\, United States
ATTACH;FMTTYPE=image/png:https://tupperlakepubliclibrary.org/wp-content/uploads/2025/09/Tupper-Teens-Event-Banner-4.png
END:VEVENT
BEGIN:VEVENT
DTSTART;TZID=America/New_York:20260211T170000
DTEND;TZID=America/New_York:20260211T200000
DTSTAMP:20260422T081257
CREATED:20260130T211341Z
LAST-MODIFIED:20260130T211551Z
UID:9307-1770829200-1770840000@tupperlakepubliclibrary.org
SUMMARY:BOCES HSE/GED Instruction
DESCRIPTION:Get your High School Diploma with FREE face to face HSE/GED instruction offered through BOCES. \nFor more information: Stop by or contact Nina McBride at 518-524-3338 or by email at Nmcbride@fehb.org.
URL:https://tupperlakepubliclibrary.org/event/boces-hse-ged-instruction-86/
LOCATION:Tupper Lake Public Library\, 41 LAKE ST\, TUPPER LAKE\, NY\, 12986-1610\, United States
ATTACH;FMTTYPE=image/png:https://tupperlakepubliclibrary.org/wp-content/uploads/2025/08/GED1.png
END:VEVENT
END:VCALENDAR