BEGIN:VCALENDAR
VERSION:2.0
PRODID:-//Tupper Lake Public Library - ECPv6.15.20//NONSGML v1.0//EN
CALSCALE:GREGORIAN
METHOD:PUBLISH
X-ORIGINAL-URL:https://tupperlakepubliclibrary.org
X-WR-CALDESC:Events for Tupper Lake Public Library
REFRESH-INTERVAL;VALUE=DURATION:PT1H
X-Robots-Tag:noindex
X-PUBLISHED-TTL:PT1H
BEGIN:VTIMEZONE
TZID:America/New_York
BEGIN:DAYLIGHT
TZOFFSETFROM:-0500
TZOFFSETTO:-0400
TZNAME:EDT
DTSTART:20250309T070000
END:DAYLIGHT
BEGIN:STANDARD
TZOFFSETFROM:-0400
TZOFFSETTO:-0500
TZNAME:EST
DTSTART:20251102T060000
END:STANDARD
BEGIN:DAYLIGHT
TZOFFSETFROM:-0500
TZOFFSETTO:-0400
TZNAME:EDT
DTSTART:20260308T070000
END:DAYLIGHT
BEGIN:STANDARD
TZOFFSETFROM:-0400
TZOFFSETTO:-0500
TZNAME:EST
DTSTART:20261101T060000
END:STANDARD
BEGIN:DAYLIGHT
TZOFFSETFROM:-0500
TZOFFSETTO:-0400
TZNAME:EDT
DTSTART:20270314T070000
END:DAYLIGHT
BEGIN:STANDARD
TZOFFSETFROM:-0400
TZOFFSETTO:-0500
TZNAME:EST
DTSTART:20271107T060000
END:STANDARD
END:VTIMEZONE
BEGIN:VEVENT
DTSTART;TZID=America/New_York:20260205T103000
DTEND;TZID=America/New_York:20260205T123000
DTSTAMP:20260422T094801
CREATED:20260130T212244Z
LAST-MODIFIED:20260130T212244Z
UID:9318-1770287400-1770294600@tupperlakepubliclibrary.org
SUMMARY:Yarn Social
DESCRIPTION:Let’s stich and chat together! Join a gathering of people knitting and crocheting together! \nPlease bring your own supplies and projects.
URL:https://tupperlakepubliclibrary.org/event/yarn-social-72/
LOCATION:Tupper Lake Public Library\, 41 LAKE ST\, TUPPER LAKE\, NY\, 12986-1610\, United States
ATTACH;FMTTYPE=image/png:https://tupperlakepubliclibrary.org/wp-content/uploads/2025/12/updated-Yarn-social.png
END:VEVENT
BEGIN:VEVENT
DTSTART;TZID=America/New_York:20260205T130000
DTEND;TZID=America/New_York:20260205T150000
DTSTAMP:20260422T094801
CREATED:20260120T202950Z
LAST-MODIFIED:20260120T203625Z
UID:9185-1770296400-1770303600@tupperlakepubliclibrary.org
SUMMARY:Young @ Heart
DESCRIPTION:Looking for a Valentine’s gift? Young @ Heart has got you covered with some Valentines Day Door Hangers! \nJoin us for a delightful day of crafting for your home! All materials will be supplied at no cost.\n\nWhile this program is designed for seniors\, everyone is welcome to participate.
URL:https://tupperlakepubliclibrary.org/event/young-heart-7/
LOCATION:Tupper Lake Public Library\, 41 LAKE ST\, TUPPER LAKE\, NY\, 12986-1610\, United States
ATTACH;FMTTYPE=image/png:https://tupperlakepubliclibrary.org/wp-content/uploads/2026/01/Young-@-Heart-Senior-February-Crafts-1.png
END:VEVENT
END:VCALENDAR