BEGIN:VCALENDAR
VERSION:2.0
PRODID:-//Tupper Lake Public Library - ECPv6.15.20//NONSGML v1.0//EN
CALSCALE:GREGORIAN
METHOD:PUBLISH
X-WR-CALNAME:Tupper Lake Public Library
X-ORIGINAL-URL:https://tupperlakepubliclibrary.org
X-WR-CALDESC:Events for Tupper Lake Public Library
REFRESH-INTERVAL;VALUE=DURATION:PT1H
X-Robots-Tag:noindex
X-PUBLISHED-TTL:PT1H
BEGIN:VTIMEZONE
TZID:America/New_York
BEGIN:DAYLIGHT
TZOFFSETFROM:-0500
TZOFFSETTO:-0400
TZNAME:EDT
DTSTART:20250309T070000
END:DAYLIGHT
BEGIN:STANDARD
TZOFFSETFROM:-0400
TZOFFSETTO:-0500
TZNAME:EST
DTSTART:20251102T060000
END:STANDARD
BEGIN:DAYLIGHT
TZOFFSETFROM:-0500
TZOFFSETTO:-0400
TZNAME:EDT
DTSTART:20260308T070000
END:DAYLIGHT
BEGIN:STANDARD
TZOFFSETFROM:-0400
TZOFFSETTO:-0500
TZNAME:EST
DTSTART:20261101T060000
END:STANDARD
BEGIN:DAYLIGHT
TZOFFSETFROM:-0500
TZOFFSETTO:-0400
TZNAME:EDT
DTSTART:20270314T070000
END:DAYLIGHT
BEGIN:STANDARD
TZOFFSETFROM:-0400
TZOFFSETTO:-0500
TZNAME:EST
DTSTART:20271107T060000
END:STANDARD
END:VTIMEZONE
BEGIN:VEVENT
DTSTART;TZID=America/New_York:20260105T100000
DTEND;TZID=America/New_York:20260105T110000
DTSTAMP:20260422T075940
CREATED:20251226T160147Z
LAST-MODIFIED:20251226T160147Z
UID:8982-1767607200-1767610800@tupperlakepubliclibrary.org
SUMMARY:Tupper Tots
DESCRIPTION:Bring your little one and connect with other caregivers for Early Literacy fun with books\, songs\, and body movement.For ages 0 – preschool and their adults. This is a partnership between TLPL and Family Matters Resource Center.
URL:https://tupperlakepubliclibrary.org/event/tupper-tots-13/
LOCATION:Tupper Lake Public Library\, 41 LAKE ST\, TUPPER LAKE\, NY\, 12986-1610\, United States
ATTACH;FMTTYPE=image/png:https://tupperlakepubliclibrary.org/wp-content/uploads/2025/10/Tupper-Tots-2025.png
ORGANIZER;CN="Tupper Lake Public Library (AKA Goff-Nelson Memorial Library)":MAILTO:goffnelson@gmail.com
END:VEVENT
BEGIN:VEVENT
DTSTART;TZID=America/New_York:20260105T130000
DTEND;TZID=America/New_York:20260105T163000
DTSTAMP:20260422T075940
CREATED:20251226T164536Z
LAST-MODIFIED:20251226T164536Z
UID:9008-1767618000-1767630600@tupperlakepubliclibrary.org
SUMMARY:Dutch-Treat Bridge Club
DESCRIPTION:The Dutch-Treat Bridge Club is looking for new members. If you are a new player\, a bridge instructor will be available. If you are an experienced player\, we would be happy to have you! Drop in and check it out! The Dutch-Treat Bridge Club meets in the Community Room at the Tupper Lake Public Library (entrance and parking in back).
URL:https://tupperlakepubliclibrary.org/event/dutch-treat-bridge-club-26/
LOCATION:Tupper Lake Public Library\, 41 LAKE ST\, TUPPER LAKE\, NY\, 12986-1610\, United States
ATTACH;FMTTYPE=image/png:https://tupperlakepubliclibrary.org/wp-content/uploads/2025/10/Bridge-Club-2.png
END:VEVENT
BEGIN:VEVENT
DTSTART;TZID=America/New_York:20260105T170000
DTEND;TZID=America/New_York:20260105T200000
DTSTAMP:20260422T075940
CREATED:20251226T192800Z
LAST-MODIFIED:20251226T193159Z
UID:9053-1767632400-1767643200@tupperlakepubliclibrary.org
SUMMARY:BOCES HSE/GED Instruction
DESCRIPTION:Get your High School Diploma with FREE face to face HSE/GED instruction offered through BOCES. \nFor more information: Stop by or contact Nina McBride at 518-524-3338 or by email at Nmcbride@fehb.org.
URL:https://tupperlakepubliclibrary.org/event/boces-hse-ged-instruction-71/
LOCATION:Tupper Lake Public Library\, 41 LAKE ST\, TUPPER LAKE\, NY\, 12986-1610\, United States
ATTACH;FMTTYPE=image/png:https://tupperlakepubliclibrary.org/wp-content/uploads/2025/08/GED1.png
END:VEVENT
END:VCALENDAR