BEGIN:VCALENDAR
VERSION:2.0
PRODID:-//Tupper Lake Public Library - ECPv6.15.20//NONSGML v1.0//EN
CALSCALE:GREGORIAN
METHOD:PUBLISH
X-WR-CALNAME:Tupper Lake Public Library
X-ORIGINAL-URL:https://tupperlakepubliclibrary.org
X-WR-CALDESC:Events for Tupper Lake Public Library
REFRESH-INTERVAL;VALUE=DURATION:PT1H
X-Robots-Tag:noindex
X-PUBLISHED-TTL:PT1H
BEGIN:VTIMEZONE
TZID:America/New_York
BEGIN:DAYLIGHT
TZOFFSETFROM:-0500
TZOFFSETTO:-0400
TZNAME:EDT
DTSTART:20240310T070000
END:DAYLIGHT
BEGIN:STANDARD
TZOFFSETFROM:-0400
TZOFFSETTO:-0500
TZNAME:EST
DTSTART:20241103T060000
END:STANDARD
BEGIN:DAYLIGHT
TZOFFSETFROM:-0500
TZOFFSETTO:-0400
TZNAME:EDT
DTSTART:20250309T070000
END:DAYLIGHT
BEGIN:STANDARD
TZOFFSETFROM:-0400
TZOFFSETTO:-0500
TZNAME:EST
DTSTART:20251102T060000
END:STANDARD
BEGIN:DAYLIGHT
TZOFFSETFROM:-0500
TZOFFSETTO:-0400
TZNAME:EDT
DTSTART:20260308T070000
END:DAYLIGHT
BEGIN:STANDARD
TZOFFSETFROM:-0400
TZOFFSETTO:-0500
TZNAME:EST
DTSTART:20261101T060000
END:STANDARD
END:VTIMEZONE
BEGIN:VEVENT
DTSTART;TZID=America/New_York:20251226T100000
DTEND;TZID=America/New_York:20251226T110000
DTSTAMP:20260422T063225
CREATED:20251226T160451Z
LAST-MODIFIED:20251226T160513Z
UID:8987-1766743200-1766746800@tupperlakepubliclibrary.org
SUMMARY:Tupper Tots
DESCRIPTION:Bring your little one and connect with other caregivers for Early Literacy fun with books\, songs\, and body movement.For ages 0 – preschool and their adults. This is a partnership between TLPL and Family Matters Resource Center.
URL:https://tupperlakepubliclibrary.org/event/tupper-tots-15/
LOCATION:Tupper Lake Public Library\, 41 LAKE ST\, TUPPER LAKE\, NY\, 12986-1610\, United States
ATTACH;FMTTYPE=image/png:https://tupperlakepubliclibrary.org/wp-content/uploads/2025/10/Tupper-Tots-2025.png
ORGANIZER;CN="Tupper Lake Public Library (AKA Goff-Nelson Memorial Library)":MAILTO:goffnelson@gmail.com
END:VEVENT
BEGIN:VEVENT
DTSTART;TZID=America/New_York:20251226T100000
DTEND;TZID=America/New_York:20251226T140000
DTSTAMP:20260422T063225
CREATED:20251120T161116Z
LAST-MODIFIED:20251120T161116Z
UID:8766-1766743200-1766757600@tupperlakepubliclibrary.org
SUMMARY:Fingerprinting
DESCRIPTION:Fingerprinting is available downstairs in the Community Room\, (ENTRANCE IN BACK) every Friday by APPOINTMENT ONLY.\n\nTo make an appointment\, go to www.IdentoGO.com or call 884-321-2124.
URL:https://tupperlakepubliclibrary.org/event/fingerprinting-36/
LOCATION:Tupper Lake Public Library\, 41 LAKE ST\, TUPPER LAKE\, NY\, 12986-1610\, United States
ATTACH;FMTTYPE=image/jpeg:https://tupperlakepubliclibrary.org/wp-content/uploads/2024/09/fingerprinting.jpg
END:VEVENT
END:VCALENDAR