BEGIN:VCALENDAR
VERSION:2.0
PRODID:-//Tupper Lake Public Library - ECPv6.15.20//NONSGML v1.0//EN
CALSCALE:GREGORIAN
METHOD:PUBLISH
X-ORIGINAL-URL:https://tupperlakepubliclibrary.org
X-WR-CALDESC:Events for Tupper Lake Public Library
REFRESH-INTERVAL;VALUE=DURATION:PT1H
X-Robots-Tag:noindex
X-PUBLISHED-TTL:PT1H
BEGIN:VTIMEZONE
TZID:America/New_York
BEGIN:DAYLIGHT
TZOFFSETFROM:-0500
TZOFFSETTO:-0400
TZNAME:EDT
DTSTART:20240310T070000
END:DAYLIGHT
BEGIN:STANDARD
TZOFFSETFROM:-0400
TZOFFSETTO:-0500
TZNAME:EST
DTSTART:20241103T060000
END:STANDARD
BEGIN:DAYLIGHT
TZOFFSETFROM:-0500
TZOFFSETTO:-0400
TZNAME:EDT
DTSTART:20250309T070000
END:DAYLIGHT
BEGIN:STANDARD
TZOFFSETFROM:-0400
TZOFFSETTO:-0500
TZNAME:EST
DTSTART:20251102T060000
END:STANDARD
BEGIN:DAYLIGHT
TZOFFSETFROM:-0500
TZOFFSETTO:-0400
TZNAME:EDT
DTSTART:20260308T070000
END:DAYLIGHT
BEGIN:STANDARD
TZOFFSETFROM:-0400
TZOFFSETTO:-0500
TZNAME:EST
DTSTART:20261101T060000
END:STANDARD
END:VTIMEZONE
BEGIN:VEVENT
DTSTART;TZID=America/New_York:20251210T143000
DTEND;TZID=America/New_York:20251210T163000
DTSTAMP:20260424T054514
CREATED:20251119T232016Z
LAST-MODIFIED:20251119T232016Z
UID:8660-1765377000-1765384200@tupperlakepubliclibrary.org
SUMMARY:Tupper Teens
DESCRIPTION:Join us after school for an exciting\, hands-on experience where you take the lead! Explore new skills\, play engaging games\, and bring creative art projects to life. Whether you’re into design\, strategy\, or trying something totally new\, this is your space to dream\, decide\, and create. \nThis program is for grades 7th – 12th
URL:https://tupperlakepubliclibrary.org/event/tupper-teens-52/
LOCATION:Tupper Lake Public Library\, 41 LAKE ST\, TUPPER LAKE\, NY\, 12986-1610\, United States
ATTACH;FMTTYPE=image/png:https://tupperlakepubliclibrary.org/wp-content/uploads/2025/09/Tupper-Teens-Event-Banner-4.png
END:VEVENT
BEGIN:VEVENT
DTSTART;TZID=America/New_York:20251210T170000
DTEND;TZID=America/New_York:20251210T200000
DTSTAMP:20260424T054514
CREATED:20251120T160231Z
LAST-MODIFIED:20251120T160231Z
UID:8754-1765386000-1765396800@tupperlakepubliclibrary.org
SUMMARY:BOCES HSE/GED Instruction
DESCRIPTION:Get your High School Diploma with FREE face to face HSE/GED instruction offered through BOCES. \nFor more information: Stop by or contact Nina McBride at 518-524-3338 or by email at Nmcbride@fehb.org.
URL:https://tupperlakepubliclibrary.org/event/boces-hse-ged-instruction-74/
LOCATION:Tupper Lake Public Library\, 41 LAKE ST\, TUPPER LAKE\, NY\, 12986-1610\, United States
ATTACH;FMTTYPE=image/png:https://tupperlakepubliclibrary.org/wp-content/uploads/2025/08/GED1.png
END:VEVENT
END:VCALENDAR