BEGIN:VCALENDAR
VERSION:2.0
PRODID:-//Tupper Lake Public Library - ECPv6.15.20//NONSGML v1.0//EN
CALSCALE:GREGORIAN
METHOD:PUBLISH
X-WR-CALNAME:Tupper Lake Public Library
X-ORIGINAL-URL:https://tupperlakepubliclibrary.org
X-WR-CALDESC:Events for Tupper Lake Public Library
REFRESH-INTERVAL;VALUE=DURATION:PT1H
X-Robots-Tag:noindex
X-PUBLISHED-TTL:PT1H
BEGIN:VTIMEZONE
TZID:America/New_York
BEGIN:DAYLIGHT
TZOFFSETFROM:-0500
TZOFFSETTO:-0400
TZNAME:EDT
DTSTART:20240310T070000
END:DAYLIGHT
BEGIN:STANDARD
TZOFFSETFROM:-0400
TZOFFSETTO:-0500
TZNAME:EST
DTSTART:20241103T060000
END:STANDARD
BEGIN:DAYLIGHT
TZOFFSETFROM:-0500
TZOFFSETTO:-0400
TZNAME:EDT
DTSTART:20250309T070000
END:DAYLIGHT
BEGIN:STANDARD
TZOFFSETFROM:-0400
TZOFFSETTO:-0500
TZNAME:EST
DTSTART:20251102T060000
END:STANDARD
BEGIN:DAYLIGHT
TZOFFSETFROM:-0500
TZOFFSETTO:-0400
TZNAME:EDT
DTSTART:20260308T070000
END:DAYLIGHT
BEGIN:STANDARD
TZOFFSETFROM:-0400
TZOFFSETTO:-0500
TZNAME:EST
DTSTART:20261101T060000
END:STANDARD
END:VTIMEZONE
BEGIN:VEVENT
DTSTART;TZID=America/New_York:20251108T090000
DTEND;TZID=America/New_York:20251108T120000
DTSTAMP:20260424T041804
CREATED:20251029T143608Z
LAST-MODIFIED:20251029T143615Z
UID:8479-1762592400-1762603200@tupperlakepubliclibrary.org
SUMMARY:Winter Coat Drive: Item Pickup
DESCRIPTION:Thank you to all who donated to our annual Winter Coat Drive! We appreciate the support! \nAll winter items will be ready to be picked up at the Holy Ghost Parish (41 Marion Street\, Tupper Lake\, NY 12986). Come and collect some amazing winter gear just in time for the winter season!
URL:https://tupperlakepubliclibrary.org/event/winter-coat-drive-item-pickup-4/
LOCATION:Holy Ghost Parish\, 41 Marion Street\, Tupper Lake\, NY\, 12986\, United States
ATTACH;FMTTYPE=image/png:https://tupperlakepubliclibrary.org/wp-content/uploads/2025/10/2025-Winter-Coat-Drive-.png
ORGANIZER;CN="Tupper Lake Public Library (AKA Goff-Nelson Memorial Library)":MAILTO:goffnelson@gmail.com
END:VEVENT
END:VCALENDAR