BEGIN:VCALENDAR
VERSION:2.0
PRODID:-//Tupper Lake Public Library - ECPv6.15.20//NONSGML v1.0//EN
CALSCALE:GREGORIAN
METHOD:PUBLISH
X-ORIGINAL-URL:https://tupperlakepubliclibrary.org
X-WR-CALDESC:Events for Tupper Lake Public Library
REFRESH-INTERVAL;VALUE=DURATION:PT1H
X-Robots-Tag:noindex
X-PUBLISHED-TTL:PT1H
BEGIN:VTIMEZONE
TZID:America/New_York
BEGIN:DAYLIGHT
TZOFFSETFROM:-0500
TZOFFSETTO:-0400
TZNAME:EDT
DTSTART:20240310T070000
END:DAYLIGHT
BEGIN:STANDARD
TZOFFSETFROM:-0400
TZOFFSETTO:-0500
TZNAME:EST
DTSTART:20241103T060000
END:STANDARD
BEGIN:DAYLIGHT
TZOFFSETFROM:-0500
TZOFFSETTO:-0400
TZNAME:EDT
DTSTART:20250309T070000
END:DAYLIGHT
BEGIN:STANDARD
TZOFFSETFROM:-0400
TZOFFSETTO:-0500
TZNAME:EST
DTSTART:20251102T060000
END:STANDARD
BEGIN:DAYLIGHT
TZOFFSETFROM:-0500
TZOFFSETTO:-0400
TZNAME:EDT
DTSTART:20260308T070000
END:DAYLIGHT
BEGIN:STANDARD
TZOFFSETFROM:-0400
TZOFFSETTO:-0500
TZNAME:EST
DTSTART:20261101T060000
END:STANDARD
END:VTIMEZONE
BEGIN:VEVENT
DTSTART;TZID=America/New_York:20251015T143000
DTEND;TZID=America/New_York:20251015T163000
DTSTAMP:20260424T093953
CREATED:20251002T210956Z
LAST-MODIFIED:20251002T211246Z
UID:8241-1760538600-1760545800@tupperlakepubliclibrary.org
SUMMARY:Tupper Teens - Garden
DESCRIPTION:TODAY – we will be going to the community garden to put our lovely garden to bed for the season.  \nJoin us after school for an exciting\, hands-on experience where you take the lead! Explore new skills\, play engaging games\, and bring creative art projects to life. Whether you’re into design\, strategy\, or trying something totally new\, this is your space to dream\, decide\, and create. \nThis program is for grades 7th – 12th.
URL:https://tupperlakepubliclibrary.org/event/tupper-teens-garden/
LOCATION:Tupper Lake Community Garden\, 120 Demars Blvd\, Tupper Lake\, NY\, 12986\, United States
ATTACH;FMTTYPE=image/png:https://tupperlakepubliclibrary.org/wp-content/uploads/2025/09/Tupper-Teens-Event-Banner-4.png
END:VEVENT
BEGIN:VEVENT
DTSTART;TZID=America/New_York:20251015T160000
DTEND;TZID=America/New_York:20251015T170000
DTSTAMP:20260424T093953
CREATED:20251002T195519Z
LAST-MODIFIED:20251002T195519Z
UID:8221-1760544000-1760547600@tupperlakepubliclibrary.org
SUMMARY:Miss Lisa's Craft
DESCRIPTION:Get crafty with Miss Lisa! Join her and learn how to make some Spooky Spider Wreaths! All materials will be provided and there is no charge for this program. All children must be accompanied by an adult.
URL:https://tupperlakepubliclibrary.org/event/miss-lisas-craft/
LOCATION:Tupper Lake Public Library\, 41 LAKE ST\, TUPPER LAKE\, NY\, 12986-1610\, United States
ATTACH;FMTTYPE=image/png:https://tupperlakepubliclibrary.org/wp-content/uploads/2025/10/Black-Orange-Playful-Illustrated-Funny-Spiders-Happy-Halloween-Facebook-Cover.png
END:VEVENT
BEGIN:VEVENT
DTSTART;TZID=America/New_York:20251015T170000
DTEND;TZID=America/New_York:20251015T200000
DTSTAMP:20260424T093953
CREATED:20250924T224908Z
LAST-MODIFIED:20250924T224908Z
UID:8154-1760547600-1760558400@tupperlakepubliclibrary.org
SUMMARY:BOCES HSE/GED Instruction
DESCRIPTION:Get your High School Diploma with FREE face to face HSE/GED instruction offered through BOCES.\nFor more information: Stop by or contact Nina McBride at 518-524-3338 or by email at Nmcbride@fehb.org.
URL:https://tupperlakepubliclibrary.org/event/boces-hse-ged-instruction-58/
LOCATION:Tupper Lake Public Library\, 41 LAKE ST\, TUPPER LAKE\, NY\, 12986-1610\, United States
ATTACH;FMTTYPE=image/png:https://tupperlakepubliclibrary.org/wp-content/uploads/2025/08/GED1.png
END:VEVENT
END:VCALENDAR